BEGIN:VCALENDAR
VERSION:2.0
PRODID:-rsag-online.de
BEGIN:VEVENT
UID:2173@www.rsag-online.de
DTSTAMP:20260423T075556Z
DTSTART:20260504T094400+0200
DTEND:20260504T094400+0200
SUMMARY:Volkshochschul-Kurs zur Fähre „Warnowstromer“
DESCRIPTION:&lt;h3&gt;Wie funktioniert eine Elektro-Solarfähre im Alltag?&lt;/h3&gt;
&lt;p&gt;Die Rostocker Straßenbahn AG bietet in Zusammenarbeit mit der Volkshochschule Rostock einen besonderen Kurs rund um die Fähre &lt;strong&gt;„Warnowstromer“&lt;/strong&gt; an. Seit 2021 verbindet sie klimafreundlich den Kabutzenhof mit Gehlsdorf – und steht im Mittelpunkt dieser Veranstaltung.&lt;/p&gt;
&lt;h3&gt;Einblicke in moderne Fährtechnik&lt;/h3&gt;
&lt;p&gt;Im Kurs erhalten die Teilnehmenden spannende und praxisnahe Einblicke in den Betrieb einer Elektro-Solarfähre. Referent Hannes Rehberg erklärt anschaulich:&lt;/p&gt;
&lt;ul&gt;&lt;li&gt;wie der elektrische Antrieb funktioniert&lt;/li&gt;&lt;li&gt;welche Energiespeicher- und Ladetechnik zum Einsatz kommt&lt;/li&gt;&lt;li&gt;welche Technik sich unter Deck verbirgt&lt;/li&gt;&lt;li&gt;wie der Einmannfahrbetrieb organisiert ist&lt;/li&gt;&lt;li&gt;und welches Anlegekonzept genutzt wird&lt;/li&gt;&lt;/ul&gt;
&lt;h3&gt;Vom Seminarraum direkt aufs Wasser&lt;/h3&gt;
&lt;p&gt;Die Veranstaltung beginnt in den Räumen der Volkshochschule Rostock. Im Anschluss geht es gemeinsam direkt zur Fähre – inklusive Überfahrt über die Warnow. So wird die Theorie unmittelbar erlebbar.&lt;/p&gt;
&lt;h4&gt;Veranstaltungsinformationen&lt;/h4&gt;
&lt;p&gt;&lt;strong&gt;Datum:&lt;/strong&gt; Mittwoch, 13. Mai 2026&lt;br /&gt;&lt;strong&gt;Uhrzeit:&lt;/strong&gt; 17:00 – 18:00Uhr&lt;/p&gt;
&lt;p&gt;&lt;strong&gt;Ort:&lt;/strong&gt; Volkshochschule Rostock, Am Kabutzenhof 20a&lt;/p&gt;
&lt;p&gt;&lt;strong&gt;Weitere Informationen:&lt;/strong&gt; &lt;a href=&quot;http://www.vhs-hro.de/&quot; target=&quot;_self&quot;&gt;www.vhs-hro.de&lt;/a&gt; (Kurs „Elektro-Solarfähre Warnowstromer“)&lt;/p&gt;
END:VEVENT
END:VCALENDAR
