BEGIN:VCALENDAR
VERSION:2.0
PRODID:-rsag-online.de
BEGIN:VEVENT
UID:2171@www.rsag-online.de
DTSTAMP:20260413T083930Z
DTSTART:20260423T160000+0200
DTEND:20260423T160000+0200
SUMMARY:Lange Nacht der Wissenschaften 2026
DESCRIPTION:&lt;p&gt;Bei der Langen Nacht der Wissenschaften öffnen Hochschulen und Forschungseinrichtungen in Rostock ihre Türen und machen Forschung für alle erlebbar – mit Experimenten, Vorträgen und Angeboten zum Mitmachen.&lt;/p&gt;
&lt;h4&gt;Das erwartet Sie:&lt;/h4&gt;
&lt;p class&gt;• Interaktive Experimente &amp;amp; Mitmachaktionen&lt;br /&gt;• Spannende Vorträge und Schauvorlesungen&lt;br /&gt;• Labor- und Gebäudeführungen&lt;br /&gt;• Angebote für Kinder, Jugendliche &amp;amp; Familien&lt;/p&gt;
&lt;h4&gt;&lt;br&gt;Veranstaltungsinformationen:&lt;/h4&gt;
&lt;p&gt;&lt;strong&gt;Datum:&lt;/strong&gt; Donnerstag, 23. April 2026&lt;br /&gt;&lt;strong&gt;Uhrzeit:&lt;/strong&gt; 16:00 – 22:00 Uhr&lt;br /&gt;&lt;strong&gt;Ort:&lt;/strong&gt; Campus Südstadt der Universität Rostock sowie weitere Standorte in der Innenstadt&lt;br /&gt;&lt;strong&gt;Eintritt:&lt;/strong&gt; kostenfrei&lt;br /&gt;&lt;strong&gt;Anmeldung:&lt;/strong&gt; nicht erforderlich&lt;/p&gt;
&lt;p&gt;&lt;strong&gt;Weitere Infos &amp;amp; Programm:&lt;/strong&gt; &lt;a class=&quot;external-link&quot; href=&quot;https://lange-nacht-des-wissens.de/&quot; title=&quot;Website der Langen Nacht der Wissenschaften&quot;&gt;lange-nacht-des-wissens.de&lt;/a&gt;&lt;/p&gt;
END:VEVENT
END:VCALENDAR
